BEGIN:VCALENDAR
VERSION:2.0
PRODID:-//Bücherei Gänserndorf - ECPv6.9.0//NONSGML v1.0//EN
CALSCALE:GREGORIAN
METHOD:PUBLISH
X-ORIGINAL-URL:https://buecherei.gaenserndorf.at
X-WR-CALDESC:Veranstaltungen für Bücherei Gänserndorf
REFRESH-INTERVAL;VALUE=DURATION:PT1H
X-Robots-Tag:noindex
X-PUBLISHED-TTL:PT1H
BEGIN:VTIMEZONE
TZID:Europe/Berlin
BEGIN:DAYLIGHT
TZOFFSETFROM:+0100
TZOFFSETTO:+0200
TZNAME:CEST
DTSTART:20260329T010000
END:DAYLIGHT
BEGIN:STANDARD
TZOFFSETFROM:+0200
TZOFFSETTO:+0100
TZNAME:CET
DTSTART:20261025T010000
END:STANDARD
END:VTIMEZONE
BEGIN:VEVENT
DTSTART;TZID=Europe/Berlin:20260504T150000
DTEND;TZID=Europe/Berlin:20260504T160000
DTSTAMP:20260419T155400
CREATED:20260109T080614Z
LAST-MODIFIED:20260109T080614Z
UID:1966-1777906800-1777910400@buecherei.gaenserndorf.at
SUMMARY:Märchen unter Büchern
DESCRIPTION:Taucht ein in die zauberhafte Welt der Märchen!\nDie Märchenursula lädt euch herzlich ein\, mit ihr eine Stunde voller Fantasie und Geschichten zu erleben. \nOb kleine Träumer oder große Märchenliebhaber – alle sind willkommen! Eine Anmeldung ist nicht notwendig\, kommt einfach vorbei und lasst euch verzaubern. \nWir freuen uns auf euren Besuch!
URL:https://buecherei.gaenserndorf.at/event/maerchen-unter-buechern-mai/
LOCATION:Bücherei\, Bahnstraße 34-36\, Gänserndorf\, 2230
ATTACH;FMTTYPE=image/jpeg:https://buecherei.gaenserndorf.at/wp-content/uploads/2025/01/Postingvorlagen-Buecherei2-e1736781335862.jpg
END:VEVENT
BEGIN:VEVENT
DTSTART;TZID=Europe/Berlin:20260523T080000
DTEND;TZID=Europe/Berlin:20260523T120000
DTSTAMP:20260419T155400
CREATED:20260408T070427Z
LAST-MODIFIED:20260408T070446Z
UID:2024-1779523200-1779537600@buecherei.gaenserndorf.at
SUMMARY:Bücherflohmarkt
DESCRIPTION:Am Samstag\, den 23. Mai 2026\, lädt das Team der Bücherei Gänserndorf von 8:00 bis 12:00 Uhr herzlich zum Bücherflohmarkt ein. Auf dem Vorplatz in der Bahnstraße 34–36 wartet eine bunte Auswahl an Büchern darauf\, entdeckt zu werden. \nOb spannende Romane\, fesselnde Sachbücher oder echte literarische Schätze – hier findet jeder neuen Lesestoff für gemütliche Stunden. Vielleicht ist genau das Buch dabei\, das schon lange gesucht wurde oder einfach Lust aufs Lesen macht. \nGanz nebenbei wird auch etwas Gutes getan: Bücher bekommen eine zweite Chance und dürfen neue Leserinnen und Leser begeistern.
URL:https://buecherei.gaenserndorf.at/event/buecherflohmarkt/
LOCATION:Vorplatz der Bücherei\, Bahnstraße 34-36\, Gänserndorf\, 2230
ATTACH;FMTTYPE=image/jpeg:https://buecherei.gaenserndorf.at/wp-content/uploads/2026/04/20260523_Buecherflohmarkt_A1_1024px.jpg
END:VEVENT
END:VCALENDAR